BEGIN:VCALENDAR
VERSION:2.0
PRODID:icalendar-ruby
CALSCALE:GREGORIAN
METHOD:PUBLISH
BEGIN:VEVENT
DTSTAMP:20260425T224857Z
UID:9-736195@guernevillebiblechurch.com
DTSTART:20260816T170000Z
DTEND:20260816T183000Z
CLASS:PUBLIC
CREATED:20260425T153325
DESCRIPTION:Welcome Home! We say that a lot at Guerneville Bible Church bec
 ause we believe that worshipping together is makes us family. We want to w
 elcome you home as well. Join us Sunday mornings at 10 AM
LAST-MODIFIED:20260425T153325
LOCATION:
SUMMARY:Worship Service
URL;VALUE=URI:https://www.guernevillebiblechurch.com/events/worship-service
 --9/2026-08-16
ATTACH;FILENAME=welcome-Home.jfif;FMTTYPE=image/jpeg:https://dq5pwpg1q8ru0.
 cloudfront.net/2023/08/27/16/45/48/7c6cb785-c167-43a8-acb1-5deeff8a3d24/we
 lcome-Home.jfif
END:VEVENT
END:VCALENDAR
